BEGIN:VCALENDAR
VERSION:2.0
PRODID:icalendar-ruby
CALSCALE:GREGORIAN
METHOD:PUBLISH
BEGIN:VEVENT
DTSTAMP:20260421T081044Z
UID:122-160625@westwardcoc.com
DTSTART:20260308T161500Z
DTEND:20260308T171500Z
CLASS:PUBLIC
CREATED:20260304T062915
DESCRIPTION:The Youth Rap Session has been postponed.
LAST-MODIFIED:20260304T062915
LOCATION:302 N. Westward
SUMMARY:Youth Rap Session: POSTPONED
URL;VALUE=URI:https://www.westwardcoc.com/events/youth-rap-session-postpone
 d/2026-03-08
ATTACH;FILENAME=Youth-Rap-Session-202603-1.png;FMTTYPE=image/png:https://dq
 5pwpg1q8ru0.cloudfront.net/2026/03/04/12/29/15/df39d5a1-676c-432b-b1a2-86a
 dd9e7dc4d/Youth-Rap-Session-202603-1.png
END:VEVENT
END:VCALENDAR
