BEGIN:VCALENDAR
VERSION:2.0
PRODID:icalendar-ruby
CALSCALE:GREGORIAN
METHOD:PUBLISH
BEGIN:VEVENT
DTSTAMP:20260423T112856Z
UID:29-144565@westwardcoc.com
DTSTART:20260201T170000Z
DTEND:20260201T180000Z
CLASS:PUBLIC
CREATED:20260129T131703
DESCRIPTION:Come learn more about God's word every first and third Sunday a
 fter morning worship service! We have Bible classes for all ages.
LAST-MODIFIED:20260129T131703
LOCATION:302 N. Westward
SUMMARY:Sunday School
URL;VALUE=URI:https://www.westwardcoc.com/events/sunday-school--29/2026-02-
 01
ATTACH;FILENAME=Sunday-School.png;FMTTYPE=image/png:https://dq5pwpg1q8ru0.c
 loudfront.net/2024/12/26/19/30/29/de486379-5a7d-41b9-a040-2232a80f1032/Sun
 day-School.png
END:VEVENT
END:VCALENDAR
