BEGIN:VCALENDAR
VERSION:2.0
PRODID:icalendar-ruby
CALSCALE:GREGORIAN
METHOD:PUBLISH
BEGIN:VEVENT
DTSTAMP:20260420T154152Z
UID:130-179869@westwardcoc.com
DTSTART:20260424T000000Z
DTEND:20260424T010000Z
CLASS:PUBLIC
CREATED:20260409T080149
DESCRIPTION:\n\nAll brothers are encouraged to attend the Brothers Training
  Class on Thursday\, April 23rd at 7:00pm.\n\n
LAST-MODIFIED:20260409T080149
LOCATION:302 N. Westward
SUMMARY:Brothers Training Class
URL;VALUE=URI:https://www.westwardcoc.com/events/brothers-training-class--1
 30/2026-04-23
ATTACH;FILENAME=202604-Brothers-Training.png;FMTTYPE=image/png:https://dq5p
 wpg1q8ru0.cloudfront.net/2026/04/09/13/01/49/54131c4c-8e44-485e-9bcd-445fe
 7a8a1a9/202604-Brothers-Training.png
END:VEVENT
END:VCALENDAR
